BEGIN:VCALENDAR
VERSION:2.0
PRODID:-//wp-events-plugin.com//7.2.3.1//EN
TZID:Europe/Zurich
X-WR-TIMEZONE:Europe/Zurich
BEGIN:VEVENT
UID:214@drechselzentrum.ch
DTSTART;TZID=Europe/Zurich:20260828T090000
DTEND;TZID=Europe/Zurich:20260828T170000
DTSTAMP:20260327T160917Z
URL:https://www.drechselzentrum.ch/Drechsekurse/drechselkurs-meissel-erleb
 en-meissel-beherrschen-2/
SUMMARY:Drechselkurs Meissel erleben\, Meissel beherrschen
DESCRIPTION:Kursleitung Paul Rüegg\n\nDer Meissel\, das vielseitigste und 
 am meisten gehasste Werkzeug\nDrechselkurs - Meissel erleben - Meissel beh
 errschen\nDer Meissel war das erste Werkzeug\, das ein Drechsler zur Verf
 ügung hatte. Mit den heutigen modernen Werkzeugen versuchen die Herstelle
 r den Freizeitdrechslern oft teure Alternativen zu verkaufen. Wir finden\,
  das nicht ganz richtig. Wir sind der Ansicht\, dass der Meissel das viels
 eitigste Werkzeug an der Drechselbank ist. Zugegeben\, der Meissel verhäl
 t sich oft zickig.\n\nZusammen wollen wir hinter das Geheimnis des Meissel
 s kommen. Mit Übungen erfahren\, wie der Meissel richtig eingesetzt wird\
 , wie er optimal angeschliffen wird und wir sauber geschnittene Oberfläch
 en bekommen. Nicht nur gerade Linien\, sondern auch einen sauberen Stab un
 d auch\, wie man schnell einen gefangenen Ring mit dem Meissel macht.\nZie
 lgruppe:\n\n 	Anfänger mit etwas Erfahrung\n 	Fortgeschrittene\n 	zukünf
 tigen Könner\n 	Frauen\, Männer und Jugendliche\n\nInhalt\n\n 	Werkzeuga
 uswahl\n 	Anschliff\n 	Haltung\n 	Formen\n\nKursziel\n\n 	Saubere Oberflä
 chen mit dem Meissel\n 	Formen mit dem Meissel\n 	Freude am Werkzeug entwi
 ckeln\n\nInbegriffene Leistungen\n\n 	Benutzung von Maschinen und Werkzeug
 en\n 	Übungsholz\n 	Pausengetränke\n 	einfaches Mittagessen\n 	Jedem Kur
 steilnehmer steht ein eigener Arbeitsplatz mit Werkzeug und Zubehör zur V
 erfügung\n\n&nbsp\;\n\nKurzfristige Absagen durch veränderte Rahmenbedin
 gungen bleiben vorbehalten.\nZurück zu Drechselkurse.
ATTACH;FMTTYPE=image/jpeg:https://www.drechselzentrum.ch/wp-content/upload
 s/2026/03/DSC_2744_KL-1.jpg
CATEGORIES:Drechseln Themenkurs
LOCATION:Drechselzentrum\, Drechselzentrum Reichenburg\, Hauptstrasse 69\, 
 Reichenburg\, 8864\, Schwyz\, Schweiz
X-APPLE-STRUCTURED-LOCATION;VALUE=URI;X-ADDRESS=Drechselzentrum Reichenburg
 \, Hauptstrasse 69\, Reichenburg\, 8864\, Schwyz\, Schweiz;X-APPLE-RADIUS=
 100;X-TITLE=Drechselzentrum:geo:0,0
END:VEVENT
BEGIN:VTIMEZONE
TZID:Europe/Zurich
X-LIC-LOCATION:Europe/Zurich
BEGIN:DAYLIGHT
DTSTART:20260329T030000
TZOFFSETFROM:+0100
TZOFFSETTO:+0200
TZNAME:CEST
END:DAYLIGHT
END:VTIMEZONE
END:VCALENDAR