BEGIN:VCALENDAR
VERSION:2.0
PRODID:-//wp-events-plugin.com//7.2.3.1//EN
TZID:Europe/Zurich
X-WR-TIMEZONE:Europe/Zurich
BEGIN:VEVENT
UID:84@drechselzentrum.ch
DTSTART;TZID=Europe/Zurich:20230323T090000
DTEND;TZID=Europe/Zurich:20230325T170000
DTSTAMP:20221221T170847Z
URL:https://www.drechselzentrum.ch/Drechsekurse/drechselkurs-grundlagen-de
 r-drechslerei-3-tage-11/
SUMMARY:Drechselkurs Grundlagen der Drechslerei 3 Tage
DESCRIPTION:Ein erfolgreicher Einstieg in eine neue Tätigkeit erfordert ei
 ne gute Einweisung.\n\nWarum 3 Tage Grundkurs? Damit mehr Zeit zum Üben u
 nd festigen des gelernten bleibt.\nDrechselkurs - Grundkurs\nOb nur mal pr
 obieren oder eine erste Einweisung in ein neues Hobby\, beide Personengrup
 pen sind angesprochen. Mit modernen Maschinen und Werkzeugen erlernen wie 
 effizient und sauber Holz bearbeitet\, in Form gebracht und Oberflächen v
 eredelt werden. Kursleiter sind erfahrene Motivatoren und Ausbilder mit la
 ngjähriger Erfahrung an der Drechselbank.\n\nDer Kursraum ist eingerichte
 t mit modernen Maschinen. Sämtliches Werkzeug steht in genügender Menge 
 zur Verfügung. Jedem Kursteilnehmer steht ein eigener Arbeitsplatz in ein
 er hellen gut eingerichteten Werkstatt zur Verfügung.\nZielgruppe:\n\n 	S
 chnupperer\n 	Anfänger\n 	Einsteiger\n 	zukünftigen Könner\n 	Frauen\, 
 Männer und Jugendliche\n\nInhalt\n\n 	Grundlagen der Drechslerei\n 	siche
 res Arbeiten\n 	Handhabung und korrekter Einsatz der Drechselwerkzeuge\n 	
 Holzbeschaffung und Lagerung\n 	Oberflächenbehandlung\n\nKursziel\n\n 	ko
 rrekter Einsatz von Drechselbänken und Drechselwerkzeugen\n 	kennenlernen
  und einsetzen verschiedener Aufspannmethoden\n 	Grundlagen der Längs- un
 d Querholzdrechslerei\n 	erarbeiten von mindestens einem Objekt pro Tag\n\
 nInbegriffene Leistungen\n\n 	Benutzung von Maschinen und Werkzeugen\n 	Ü
 bungsholz\n 	Pausengetränken\n 	Einfaches Mittagessen\n\nDrechseln ist ei
 ne wunderbare Tätigkeit\, die jedoch erst dann richtig Spass macht\, wenn
  der korrekte Einsatz der Drechselbank und die Handhabung der Werkzeuge be
 kannt ist. Damit die Gerätschaften beim Drechseln korrekt eingesetzt werd
 en können\, ist es wichtig\, dass die Gefahren bekannt und der korrekte E
 insatz der Werkzeuge bekannt und bereits einmal geübt wurde. Auch wer noc
 h nie gedrechselt hat und noch nicht weiss\, ob es für ihn das richtige i
 st\, soll das am Ende des Kurses wissen.\n\nSelbst Jugendliche können gef
 ahrlos und erfolgreich an der Drechselbank arbeiten. Wir haben die Erfahru
 ng\, wie man Jugendlichen beibringt\, wie man an der Drechselbank sicher a
 rbeitet. Jugendliche ab 6 Jahren in Begleitung eines Erwachsenen sind bei 
 uns herzlich willkommen\, ohne Begleitung können Jugendliche ab 12 Jahren
  den Kurs besuchen.\n\nKurzfristige Absagen durch veränderte Rahmenbeding
 ungen bleiben vorbehalten.\n\nSollte Ihnen unser Buchungssytem Probleme be
 reiten\, melden Sie sich doch bitte per Mail. Wir werden das Problem löse
 n.\n\nMail an das Drechselzentrum\nZurück zu Drechselkurse.
ATTACH;FMTTYPE=image/jpeg:https://www.drechselzentrum.ch/wp-content/upload
 s/2019/04/DSC_1831-scaled.jpg
CATEGORIES:Drechseln Grundkurs 3 Tage
LOCATION:Drechselzentrum\, Drechselzentrum Reichenburg\, Hauptstrasse 69\, 
 Reichenburg\, 8864\, Schwyz\, Schweiz
X-APPLE-STRUCTURED-LOCATION;VALUE=URI;X-ADDRESS=Drechselzentrum Reichenburg
 \, Hauptstrasse 69\, Reichenburg\, 8864\, Schwyz\, Schweiz;X-APPLE-RADIUS=
 100;X-TITLE=Drechselzentrum:geo:0,0
END:VEVENT
BEGIN:VTIMEZONE
TZID:Europe/Zurich
X-LIC-LOCATION:Europe/Zurich
BEGIN:STANDARD
DTSTART:20221030T020000
TZOFFSETFROM:+0200
TZOFFSETTO:+0100
TZNAME:CET
END:STANDARD
END:VTIMEZONE
END:VCALENDAR