BEGIN:VCALENDAR
VERSION:2.0
PRODID:-//wp-events-plugin.com//7.2.3.1//EN
TZID:Europe/Zurich
X-WR-TIMEZONE:Europe/Zurich
BEGIN:VEVENT
UID:211@drechselzentrum.ch
DTSTART;TZID=Europe/Zurich:20260528T090000
DTEND;TZID=Europe/Zurich:20260529T170000
DTSTAMP:20260326T145321Z
URL:https://www.drechselzentrum.ch/Drechsekurse/drechselkurs-alternative-s
 pannmethoden-oder-sparst-du-geld/
SUMMARY:Drechselkurs: alternative Spannmethoden oder immer gut gespannt
DESCRIPTION:Kursleitung Paul Rüegg\n\nDas würd ich auch gern drechseln! A
 ber wie spanne ich das ein? Ich hab das Zubehör nicht... \nDrechselkurs 
 - alternative Spannmethoden - Holzfutter\nJedem Drechsler ist das Thema be
 kannt. Immer wieder stehen wir vor der Frage: "Und wie spanne ich das Teil
  jetzt auf die Drechselbank? Gemeinsam werden wir der Problematik auf den 
 Grund gehen und alternative Spannmethoden suchen und finden. Dabei werden 
 wir in die Geschichte des Drechselns eintauchen (Spannfutter gibt es noch 
 nicht 200 Jahre) und herausfinden\, wie man ohne Spannfutter Werkstücke a
 uf die Maschine bringt. Nicht nur alte überlieferte Spannmöglichkeiten w
 erden angeschaut\, sondern auch mit modernen Mitteln hergestellte Spannwer
 kzeuge. Zwei Tage voller Spannung.\nZielgruppe:\n\n 	Fortgeschrittene Anf
 änger\n 	Fortgeschrittene\n 	zukünftigen Könner\n 	Frauen\, Männer und
  Jugendliche\n 	und alle\, die ihr Spannproblem lösen wollen\n\nInhalt\n\
 n 	Spannfutter und Zubehör\n 	Spannfutterzubehör selber machen\n 	Spuntf
 utter Längs- und Querholz\n 	Moderne Spannhilfen selber herstellen\n 	Arb
 eitssicherheit\n\nKursziel\n\n 	Deine Denk- und Herangehensweise beschrän
 kt sich nicht mehr auf die Möglichkeiten aus dem Zubehörkatalog\n 	Du ke
 nnst ganz viele neu-alte spannende Möglichkeiten\n 	Du sparst in Zukunft 
 so manchen Franken für Zubehör\n\nInbegriffene Leistungen\n\n 	Benutzung
  von Maschinen und Werkzeugen\n 	Übungsholz\n 	Pausengetränke\n 	einfach
 es Mittagessen\n\n&nbsp\;\n\nKurzfristige Absagen durch veränderte Rahmen
 bedingungen bleiben vorbehalten.\nZurück zu Drechselkurse.
ATTACH;FMTTYPE=image/jpeg:https://www.drechselzentrum.ch/wp-content/upload
 s/2023/11/AlterSpuntHeiner.webp
CATEGORIES:Drechseln Themenkurs
LOCATION:Drechselzentrum\, Drechselzentrum Reichenburg\, Hauptstrasse 69\, 
 Reichenburg\, 8864\, Schwyz\, Schweiz
X-APPLE-STRUCTURED-LOCATION;VALUE=URI;X-ADDRESS=Drechselzentrum Reichenburg
 \, Hauptstrasse 69\, Reichenburg\, 8864\, Schwyz\, Schweiz;X-APPLE-RADIUS=
 100;X-TITLE=Drechselzentrum:geo:0,0
END:VEVENT
BEGIN:VTIMEZONE
TZID:Europe/Zurich
X-LIC-LOCATION:Europe/Zurich
BEGIN:DAYLIGHT
DTSTART:20260329T030000
TZOFFSETFROM:+0100
TZOFFSETTO:+0200
TZNAME:CEST
END:DAYLIGHT
END:VTIMEZONE
END:VCALENDAR