BEGIN:VCALENDAR
VERSION:2.0
PRODID:-//wp-events-plugin.com//7.2.3.1//EN
TZID:Europe/Zurich
X-WR-TIMEZONE:Europe/Zurich
BEGIN:VEVENT
UID:197@drechselzentrum.ch
DTSTART;TZID=Europe/Zurich:20260702T090000
DTEND;TZID=Europe/Zurich:20260703T170000
DTSTAMP:20251118T101632Z
URL:https://www.drechselzentrum.ch/Drechsekurse/drechselkurs-3-arten-exzen
 trisch-mit-roger-2/
SUMMARY:Drechselkurs: Exzentrisch mal Drei
DESCRIPTION:Kursleiter Roger Moor\n\nEine erfolgreiche Weiterentwicklung ei
 ner Tätigkeit benötigt manchmal einen Schubs über den Tellerrand.\nDrei
  Arten exzentrisch\nIrgendwann stellt sich jeder Drechsler die Frage" muss
  es immer rund sein? " . Die Antwort: NEIN! es darf auch mal aus dem Ruder
  laufen.\n\nWie schrege Dinge eben doch gerade sind und wie man die verlor
 enen Ecken wieder finden könnte\, sind Elemente dieses Kurses.\n\n&nbsp\;
 \nZielgruppe:\n\n 	geübte Freizeitdrechsler\n 	Kreative Geister\n 	zukün
 ftige Könner\n 	Frauen\, Männer und Jugendliche\n\nInhalt\n\n 	Aufspannm
 ethoden zwischen den Spitzen\n 	Aufspannmethoden zwischen Spund und Spitze
 \n 	Fliegend drechseln mit "Wobble" Spannfuttereinsatz\n 	sicheres Arbeite
 n\n\nKursziel\n\n 	Du kennst die Gefahren und kannst die Risiken minimiere
 n\n 	Kannst abschätzen was passiert wenn Du genau hier schneidest...\n 	K
 annst mit dem Wobble-Futter umgehen\n 	Du kannst Objekte exzentrisch aufsp
 annen\n 	Du bringst einige Ideen und Anstösse mit nach Hause\n 	Fertigst 
 in jedem Thema mindetsens ein anschauliches Objekt\n\nInbegriffene Leistun
 gen\n\n 	Benutzung von Maschinen und Werkzeugen\n 	Übungsholz\n 	Pausenge
 tränke Kaffee und Mineralwasser\n 	einfaches Mittagessen\n\nEin spannende
 r Kurs bei dem warscheinlich niemand weiss\, was am Ende raus kommt! Nur e
 ines ist sicher! Es wird immer besser als erwartet!\n\nKurzfristige Absage
 n durch veränderte Rahmenbedingungen bleiben vorbehalten.\n\nZurück zu D
 rechselkurse.
ATTACH;FMTTYPE=image/jpeg:https://www.drechselzentrum.ch/wp-content/upload
 s/2025/10/Exzenzrisch.png
CATEGORIES:Drechseln Themenkurs
LOCATION:Drechselzentrum\, Drechselzentrum Reichenburg\, Hauptstrasse 69\, 
 Reichenburg\, 8864\, Schwyz\, Schweiz
X-APPLE-STRUCTURED-LOCATION;VALUE=URI;X-ADDRESS=Drechselzentrum Reichenburg
 \, Hauptstrasse 69\, Reichenburg\, 8864\, Schwyz\, Schweiz;X-APPLE-RADIUS=
 100;X-TITLE=Drechselzentrum:geo:0,0
END:VEVENT
BEGIN:VTIMEZONE
TZID:Europe/Zurich
X-LIC-LOCATION:Europe/Zurich
BEGIN:DAYLIGHT
DTSTART:20260329T030000
TZOFFSETFROM:+0100
TZOFFSETTO:+0200
TZNAME:CEST
END:DAYLIGHT
END:VTIMEZONE
END:VCALENDAR